BEGIN:VCALENDAR
VERSION:2.0
PRODID:-//SPWK Church - ECPv6.15.18//NONSGML v1.0//EN
CALSCALE:GREGORIAN
METHOD:PUBLISH
X-WR-CALNAME:SPWK Church
X-ORIGINAL-URL:https://spwkchurch.co.uk
X-WR-CALDESC:Events for SPWK Church
REFRESH-INTERVAL;VALUE=DURATION:PT1H
X-Robots-Tag:noindex
X-PUBLISHED-TTL:PT1H
BEGIN:VTIMEZONE
TZID:UTC
BEGIN:STANDARD
TZOFFSETFROM:+0000
TZOFFSETTO:+0000
TZNAME:UTC
DTSTART:20250101T000000
END:STANDARD
END:VTIMEZONE
BEGIN:VEVENT
DTSTART;TZID=UTC:20260424T084500
DTEND;TZID=UTC:20260424T093000
DTSTAMP:20260424T024656
CREATED:20250306T145941Z
LAST-MODIFIED:20260322T173717Z
UID:464-1777020300-1777023000@spwkchurch.co.uk
SUMMARY:Morning Prayer
DESCRIPTION:Join us in a service of Morning Prayer\, we follow the service of Morning Prayer from the book of common worship. \nMorning Prayer is a short\, said modern language (Common Worship) service. This service\, to which all are most welcome\, lasts about 30 minutes.
URL:https://spwkchurch.co.uk/event/morning-prayer-6/
LOCATION:St. Andrew’s Church\, Grandale\, Sutton Park\,\, Hull\, HU7 4BL\, United Kingdom
CATEGORIES:morning-prayer
ATTACH;FMTTYPE=image/jpeg:https://spwkchurch.co.uk/wp-content/uploads/2025/03/writing-book-read-open-reading-line-1137625-pxhere.com_.jpg
ORGANIZER;CN="Sutton Park%2C Wawne & Kingswood Church":MAILTO:office@spwkchurch.co.uk
END:VEVENT
BEGIN:VEVENT
DTSTART;TZID=UTC:20260424T093000
DTEND;TZID=UTC:20260424T120000
DTSTAMP:20260424T024656
CREATED:20250306T150733Z
LAST-MODIFIED:20260322T173853Z
UID:468-1777023000-1777032000@spwkchurch.co.uk
SUMMARY:Coffee Morning
DESCRIPTION:Join us at St Andrew’s for our monthly coffee morning\, meet up with friends or come along to make new ones\, all are welcome. \nThere is also stals selling cakes\, preserves\, books\, children’s toys and bric-a-brac.
URL:https://spwkchurch.co.uk/event/coffee-morning-2/
LOCATION:St. Andrew’s Church\, Grandale\, Sutton Park\,\, Hull\, HU7 4BL\, United Kingdom
CATEGORIES:Coffee Morning
ATTACH;FMTTYPE=image/jpeg:https://spwkchurch.co.uk/wp-content/uploads/2025/02/coffee-morning.jpg
ORGANIZER;CN="Sutton Park%2C Wawne & Kingswood Church":MAILTO:office@spwkchurch.co.uk
END:VEVENT
END:VCALENDAR